Package: SigsPack Version: 1.20.0 Command: /Library/Frameworks/R.framework/Resources/bin/R CMD build --keep-empty-dirs --no-resave-data SigsPack StartedAt: 2025-02-03 22:22:23 -0500 (Mon, 03 Feb 2025) EndedAt: 2025-02-03 22:25:33 -0500 (Mon, 03 Feb 2025) EllapsedTime: 190.1 seconds RetCode: 0 Status: OK PackageFile: SigsPack_1.20.0.tar.gz PackageFileSize: 521.5 KiB