Package: SigsPack Version: 1.20.0 Command: /Library/Frameworks/R.framework/Resources/bin/R CMD check --install=check:SigsPack.install-out.txt --library=/Library/Frameworks/R.framework/Resources/library --no-vignettes --timings SigsPack_1.20.0.tar.gz StartedAt: 2025-02-04 10:12:38 -0500 (Tue, 04 Feb 2025) EndedAt: 2025-02-04 10:17:07 -0500 (Tue, 04 Feb 2025) EllapsedTime: 269.3 seconds RetCode: 0 Status: OK CheckDir: SigsPack.Rcheck Warnings: 0