Package: SigsPack Version: 1.20.0 Command: /home/biocbuild/R/R/bin/R CMD check --install=check:SigsPack.install-out.txt --library=/home/biocbuild/R/R/site-library --no-vignettes --timings SigsPack_1.20.0.tar.gz StartedAt: 2025-02-04 11:07:00 -0000 (Tue, 04 Feb 2025) EndedAt: 2025-02-04 11:09:18 -0000 (Tue, 04 Feb 2025) EllapsedTime: 138.2 seconds RetCode: 0 Status: OK CheckDir: SigsPack.Rcheck Warnings: 0