Package: SimBu Version: 1.8.0 Command: /Library/Frameworks/R.framework/Resources/bin/R CMD build --keep-empty-dirs --no-resave-data SimBu StartedAt: 2025-02-04 08:21:17 -0500 (Tue, 04 Feb 2025) EndedAt: 2025-02-04 08:22:13 -0500 (Tue, 04 Feb 2025) EllapsedTime: 55.5 seconds RetCode: 0 Status: OK PackageFile: SimBu_1.8.0.tar.gz PackageFileSize: 220.8 KiB