Package: SimBu Version: 1.8.0 Command: /home/biocbuild/bbs-3.20-bioc/R/bin/R CMD INSTALL SimBu StartedAt: 2025-02-03 15:55:56 -0500 (Mon, 03 Feb 2025) EndedAt: 2025-02-03 15:56:01 -0500 (Mon, 03 Feb 2025) EllapsedTime: 5.1 seconds RetCode: 0 Status: OK