Package: SimFFPE Version: 1.18.0 Command: /Library/Frameworks/R.framework/Resources/bin/R CMD build --keep-empty-dirs --no-resave-data SimFFPE StartedAt: 2025-02-03 22:22:50 -0500 (Mon, 03 Feb 2025) EndedAt: 2025-02-03 22:26:58 -0500 (Mon, 03 Feb 2025) EllapsedTime: 248.1 seconds RetCode: 0 Status: OK PackageFile: SimFFPE_1.18.0.tar.gz PackageFileSize: 750 KiB