Package: SimFFPE Version: 1.18.0 Command: /Library/Frameworks/R.framework/Resources/bin/R CMD check --install=check:SimFFPE.install-out.txt --library=/Library/Frameworks/R.framework/Resources/library --no-vignettes --timings SimFFPE_1.18.0.tar.gz StartedAt: 2025-02-04 10:14:15 -0500 (Tue, 04 Feb 2025) EndedAt: 2025-02-04 10:24:00 -0500 (Tue, 04 Feb 2025) EllapsedTime: 585.1 seconds RetCode: 0 Status: OK CheckDir: SimFFPE.Rcheck Warnings: 0