Package: SimFFPE Version: 1.18.0 Command: /Library/Frameworks/R.framework/Resources/bin/R CMD INSTALL SimFFPE StartedAt: 2025-02-03 15:36:06 -0500 (Mon, 03 Feb 2025) EndedAt: 2025-02-03 15:36:38 -0500 (Mon, 03 Feb 2025) EllapsedTime: 32.0 seconds RetCode: 0 Status: OK