Package: SimFFPE Version: 1.18.0 Command: /home/biocbuild/bbs-3.20-bioc/R/bin/R CMD INSTALL SimFFPE StartedAt: 2025-02-17 15:23:40 -0500 (Mon, 17 Feb 2025) EndedAt: 2025-02-17 15:23:53 -0500 (Mon, 17 Feb 2025) EllapsedTime: 13.2 seconds RetCode: 0 Status: OK