Package: SingleCellAlleleExperiment Version: 1.2.0 Command: /Library/Frameworks/R.framework/Resources/bin/R CMD build --keep-empty-dirs --no-resave-data SingleCellAlleleExperiment StartedAt: 2025-02-03 22:24:03 -0500 (Mon, 03 Feb 2025) EndedAt: 2025-02-03 22:37:07 -0500 (Mon, 03 Feb 2025) EllapsedTime: 784.6 seconds RetCode: 0 Status: OK PackageFile: SingleCellAlleleExperiment_1.2.0.tar.gz PackageFileSize: 2.027 MiB