Package: SingleCellAlleleExperiment
Version: 1.2.0
Command: chmod a+r SingleCellAlleleExperiment -R && F:\biocbuild\bbs-3.20-bioc\R\bin\R.exe CMD build --keep-empty-dirs --no-resave-data SingleCellAlleleExperiment
StartedAt: 2025-02-17 21:57:45 -0500 (Mon, 17 Feb 2025)
EndedAt: 2025-02-17 21:58:44 -0500 (Mon, 17 Feb 2025)
EllapsedTime: 59.0 seconds
RetCode: 1
Status: ERROR
PackageFile: None
PackageFileSize: NA