Package: SingleMoleculeFootprinting Version: 2.0.0 Command: rm -rf SingleMoleculeFootprinting.buildbin-libdir && mkdir SingleMoleculeFootprinting.buildbin-libdir && /Users/biocbuild/BBS/utils/build-universal.sh SingleMoleculeFootprinting_2.0.0.tar.gz /Library/Frameworks/R.framework/Resources/bin/R SingleMoleculeFootprinting.buildbin-libdir StartedAt: 2025-02-01 16:57:02 -0500 (Sat, 01 Feb 2025) EndedAt: 2025-02-01 16:58:07 -0500 (Sat, 01 Feb 2025) EllapsedTime: 65.3 seconds RetCode: 0 Status: OK PackageFile: SingleMoleculeFootprinting_2.0.0.tgz PackageFileSize: 4.258 MiB