Package: SingleMoleculeFootprinting Version: 2.0.0 Command: /Library/Frameworks/R.framework/Resources/bin/R CMD build --keep-empty-dirs --no-resave-data SingleMoleculeFootprinting StartedAt: 2025-02-04 08:29:05 -0500 (Tue, 04 Feb 2025) EndedAt: 2025-02-04 08:32:43 -0500 (Tue, 04 Feb 2025) EllapsedTime: 217.7 seconds RetCode: 0 Status: OK PackageFile: SingleMoleculeFootprinting_2.0.0.tar.gz PackageFileSize: 4.093 MiB