Package: SingleMoleculeFootprinting Version: 2.0.0 Command: /Library/Frameworks/R.framework/Resources/bin/R CMD check --install=check:SingleMoleculeFootprinting.install-out.txt --library=/Library/Frameworks/R.framework/Resources/library --no-vignettes --timings SingleMoleculeFootprinting_2.0.0.tar.gz StartedAt: 2025-02-04 10:17:39 -0500 (Tue, 04 Feb 2025) EndedAt: 2025-02-04 10:29:58 -0500 (Tue, 04 Feb 2025) EllapsedTime: 739.2 seconds RetCode: 0 Status: WARNINGS CheckDir: SingleMoleculeFootprinting.Rcheck Warnings: 1