Package: SingleMoleculeFootprinting Version: 2.0.0 Command: /Library/Frameworks/R.framework/Resources/bin/R CMD INSTALL SingleMoleculeFootprinting StartedAt: 2025-02-03 16:02:49 -0500 (Mon, 03 Feb 2025) EndedAt: 2025-02-03 16:04:31 -0500 (Mon, 03 Feb 2025) EllapsedTime: 102.2 seconds RetCode: 0 Status: OK