Package: SingleMoleculeFootprinting Version: 2.0.0 Command: /home/biocbuild/bbs-3.20-bioc/R/bin/R CMD build --keep-empty-dirs --no-resave-data --md5 SingleMoleculeFootprinting StartedAt: 2025-02-03 19:22:05 -0500 (Mon, 03 Feb 2025) EndedAt: 2025-02-03 19:24:45 -0500 (Mon, 03 Feb 2025) EllapsedTime: 160.2 seconds RetCode: 0 Status: OK PackageFile: SingleMoleculeFootprinting_2.0.0.tar.gz PackageFileSize: 3.853 MiB