Package: SingleMoleculeFootprinting Version: 2.0.0 Command: rm -rf SingleMoleculeFootprinting.buildbin-libdir && mkdir SingleMoleculeFootprinting.buildbin-libdir && F:\biocbuild\bbs-3.20-bioc\R\bin\R.exe CMD INSTALL --build --library=SingleMoleculeFootprinting.buildbin-libdir SingleMoleculeFootprinting_2.0.0.tar.gz StartedAt: 2025-01-31 09:39:06 -0500 (Fri, 31 Jan 2025) EndedAt: 2025-01-31 09:48:43 -0500 (Fri, 31 Jan 2025) EllapsedTime: 577.0 seconds RetCode: 0 Status: OK PackageFile: SingleMoleculeFootprinting_2.0.0.zip PackageFileSize: 3.22 MiB