Package: SingleMoleculeFootprinting Version: 2.0.0 Command: /home/biocbuild/R/R/bin/R CMD build --keep-empty-dirs --no-resave-data SingleMoleculeFootprinting StartedAt: 2025-02-04 03:04:18 -0000 (Tue, 04 Feb 2025) EndedAt: 2025-02-04 03:08:22 -0000 (Tue, 04 Feb 2025) EllapsedTime: 243.4 seconds RetCode: 0 Status: OK PackageFile: SingleMoleculeFootprinting_2.0.0.tar.gz PackageFileSize: 3.428 MiB