Package: SomaticSignatures
Version: 2.42.0
Command: rm -rf SomaticSignatures.buildbin-libdir && mkdir SomaticSignatures.buildbin-libdir && /Users/biocbuild/BBS/utils/build-universal.sh SomaticSignatures_2.42.0.tar.gz /Library/Frameworks/R.framework/Resources/bin/R SomaticSignatures.buildbin-libdir
StartedAt: 2024-11-09 17:13:10 -0500 (Sat, 09 Nov 2024)
EndedAt: 2024-11-09 17:13:33 -0500 (Sat, 09 Nov 2024)
EllapsedTime: 23.4 seconds
RetCode: 0
Status: OK
PackageFile: SomaticSignatures_2.42.0.tgz
PackageFileSize: 3.509 <A href="http://en.wikipedia.org/wiki/MiB" target="_blank">MiB</A>