Package: SomaticSignatures
Version: 2.42.0
Command: /home/biocbuild/bbs-3.20-bioc/R/bin/R CMD INSTALL SomaticSignatures
StartedAt: 2025-02-17 15:41:24 -0500 (Mon, 17 Feb 2025)
EndedAt: 2025-02-17 15:42:17 -0500 (Mon, 17 Feb 2025)
EllapsedTime: 52.5 seconds
RetCode: 0
Status: OK