Package: SomaticSignatures Version: 2.42.0 Command: F:\biocbuild\bbs-3.20-bioc\R\bin\R.exe CMD INSTALL SomaticSignatures StartedAt: 2025-02-03 16:59:29 -0500 (Mon, 03 Feb 2025) EndedAt: 2025-02-03 17:01:22 -0500 (Mon, 03 Feb 2025) EllapsedTime: 112.6 seconds RetCode: 0 Status: OK