Package: SomaticSignatures Version: 2.42.0 Command: /home/biocbuild/R/R/bin/R CMD build --keep-empty-dirs --no-resave-data SomaticSignatures StartedAt: 2025-02-04 03:08:26 -0000 (Tue, 04 Feb 2025) EndedAt: 2025-02-04 03:14:37 -0000 (Tue, 04 Feb 2025) EllapsedTime: 371.5 seconds RetCode: 0 Status: OK PackageFile: SomaticSignatures_2.42.0.tar.gz PackageFileSize: 1.986 MiB