Package: SomaticSignatures Version: 2.42.0 Command: /home/biocbuild/R/R/bin/R CMD check --install=check:SomaticSignatures.install-out.txt --library=/home/biocbuild/R/R/site-library --no-vignettes --timings SomaticSignatures_2.42.0.tar.gz StartedAt: 2025-02-04 11:14:59 -0000 (Tue, 04 Feb 2025) EndedAt: 2025-02-04 11:23:31 -0000 (Tue, 04 Feb 2025) EllapsedTime: 512.6 seconds RetCode: 0 Status: OK CheckDir: SomaticSignatures.Rcheck Warnings: 0