Package: SomaticSignatures Version: 2.42.0 Command: /home/biocbuild/R/R/bin/R CMD INSTALL SomaticSignatures StartedAt: 2025-02-03 20:59:31 -0000 (Mon, 03 Feb 2025) EndedAt: 2025-02-03 21:00:42 -0000 (Mon, 03 Feb 2025) EllapsedTime: 70.7 seconds RetCode: 0 Status: OK