Package: SpaNorm Version: 1.0.0 Command: /Library/Frameworks/R.framework/Resources/bin/R CMD check --install=check:SpaNorm.install-out.txt --library=/Library/Frameworks/R.framework/Resources/library --no-vignettes --timings SpaNorm_1.0.0.tar.gz StartedAt: 2025-02-05 10:54:33 -0500 (Wed, 05 Feb 2025) EndedAt: 2025-02-05 10:57:27 -0500 (Wed, 05 Feb 2025) EllapsedTime: 174.3 seconds RetCode: 0 Status: OK CheckDir: SpaNorm.Rcheck Warnings: 0