Package: SpaNorm Version: 1.0.0 Command: /Library/Frameworks/R.framework/Resources/bin/R CMD INSTALL SpaNorm StartedAt: 2024-11-08 15:45:25 -0500 (Fri, 08 Nov 2024) EndedAt: 2024-11-08 15:45:27 -0500 (Fri, 08 Nov 2024) EllapsedTime: 2.0 seconds RetCode: 0 Status: OK