Package: SpaNorm Version: 1.0.0 Command: /home/biocbuild/R/R/bin/R CMD INSTALL SpaNorm StartedAt: 2025-02-03 21:17:12 -0000 (Mon, 03 Feb 2025) EndedAt: 2025-02-03 21:17:19 -0000 (Mon, 03 Feb 2025) EllapsedTime: 7.1 seconds RetCode: 0 Status: OK