Package: SpacePAC Version: 1.44.0 Command: /Library/Frameworks/R.framework/Resources/bin/R CMD build --keep-empty-dirs --no-resave-data SpacePAC StartedAt: 2025-02-04 08:41:18 -0500 (Tue, 04 Feb 2025) EndedAt: 2025-02-04 08:42:26 -0500 (Tue, 04 Feb 2025) EllapsedTime: 67.5 seconds RetCode: 0 Status: OK PackageFile: SpacePAC_1.44.0.tar.gz PackageFileSize: 1.889 MiB