Package: SpacePAC Version: 1.44.0 Command: /Library/Frameworks/R.framework/Resources/bin/R CMD INSTALL SpacePAC StartedAt: 2025-02-03 17:23:19 -0500 (Mon, 03 Feb 2025) EndedAt: 2025-02-03 17:23:36 -0500 (Mon, 03 Feb 2025) EllapsedTime: 16.4 seconds RetCode: 0 Status: OK