Package: SpacePAC Version: 1.44.0 Command: rm -rf SpacePAC.buildbin-libdir && mkdir SpacePAC.buildbin-libdir && /Users/biocbuild/BBS/utils/build-universal.sh SpacePAC_1.44.0.tar.gz /Library/Frameworks/R.framework/Resources/bin/R SpacePAC.buildbin-libdir StartedAt: 2025-01-31 13:45:23 -0500 (Fri, 31 Jan 2025) EndedAt: 2025-01-31 13:45:57 -0500 (Fri, 31 Jan 2025) EllapsedTime: 33.9 seconds RetCode: 0 Status: OK PackageFile: SpacePAC_1.44.0.tgz PackageFileSize: 1.183 MiB