Package: SpacePAC Version: 1.43.0 Command: C:\Users\biocbuild\bbs-3.20-bioc\R\bin\R.exe CMD check --no-multiarch --install=check:SpacePAC.install-out.txt --library=C:\Users\biocbuild\bbs-3.20-bioc\R\library --no-vignettes --timings SpacePAC_1.43.0.tar.gz StartedAt: 2024-07-16 04:30:14 -0400 (Tue, 16 Jul 2024) EndedAt: 2024-07-16 04:33:14 -0400 (Tue, 16 Jul 2024) EllapsedTime: 180.4 seconds RetCode: 0 Status: OK CheckDir: SpacePAC.Rcheck Warnings: 0