Package: SparseArray Version: 1.6.1 Command: /Library/Frameworks/R.framework/Resources/bin/R CMD INSTALL SparseArray StartedAt: 2025-02-03 15:17:55 -0500 (Mon, 03 Feb 2025) EndedAt: 2025-02-03 15:18:50 -0500 (Mon, 03 Feb 2025) EllapsedTime: 55.4 seconds RetCode: 0 Status: OK