Package: SparseSignatures Version: 2.16.0 Command: /Library/Frameworks/R.framework/Resources/bin/R CMD build --keep-empty-dirs --no-resave-data SparseSignatures StartedAt: 2025-02-04 08:45:51 -0500 (Tue, 04 Feb 2025) EndedAt: 2025-02-04 08:50:43 -0500 (Tue, 04 Feb 2025) EllapsedTime: 292.5 seconds RetCode: 0 Status: OK PackageFile: SparseSignatures_2.16.0.tar.gz PackageFileSize: 1.462 MiB