Package: SparseSignatures Version: 2.16.0 Command: /Library/Frameworks/R.framework/Resources/bin/R CMD build --keep-empty-dirs --no-resave-data SparseSignatures StartedAt: 2025-02-03 22:31:12 -0500 (Mon, 03 Feb 2025) EndedAt: 2025-02-03 22:41:51 -0500 (Mon, 03 Feb 2025) EllapsedTime: 639.1 seconds RetCode: 0 Status: OK PackageFile: SparseSignatures_2.16.0.tar.gz PackageFileSize: 1.462 MiB