Package: SparseSignatures Version: 2.16.0 Command: /Library/Frameworks/R.framework/Resources/bin/R CMD check --install=check:SparseSignatures.install-out.txt --library=/Library/Frameworks/R.framework/Resources/library --no-vignettes --timings SparseSignatures_2.16.0.tar.gz StartedAt: 2025-02-04 10:29:58 -0500 (Tue, 04 Feb 2025) EndedAt: 2025-02-04 10:58:40 -0500 (Tue, 04 Feb 2025) EllapsedTime: 1722.1 seconds RetCode: 0 Status: OK CheckDir: SparseSignatures.Rcheck Warnings: 0