Package: SparseSignatures Version: 2.16.0 Command: /home/biocbuild/bbs-3.20-bioc/R/bin/R CMD INSTALL SparseSignatures StartedAt: 2025-02-03 15:34:23 -0500 (Mon, 03 Feb 2025) EndedAt: 2025-02-03 15:35:02 -0500 (Mon, 03 Feb 2025) EllapsedTime: 39.3 seconds RetCode: 0 Status: OK