Package: SparseSignatures Version: 2.16.0 Command: chmod a+r SparseSignatures -R && F:\biocbuild\bbs-3.20-bioc\R\bin\R.exe CMD build --keep-empty-dirs --no-resave-data SparseSignatures StartedAt: 2025-02-03 22:17:47 -0500 (Mon, 03 Feb 2025) EndedAt: 2025-02-03 22:21:48 -0500 (Mon, 03 Feb 2025) EllapsedTime: 241.3 seconds RetCode: 0 Status: OK PackageFile: SparseSignatures_2.16.0.tar.gz PackageFileSize: 1.375 MiB