Package: SparseSignatures Version: 2.16.0 Command: /home/biocbuild/R/R/bin/R CMD build --keep-empty-dirs --no-resave-data SparseSignatures StartedAt: 2025-02-04 03:10:17 -0000 (Tue, 04 Feb 2025) EndedAt: 2025-02-04 03:17:26 -0000 (Tue, 04 Feb 2025) EllapsedTime: 428.6 seconds RetCode: 0 Status: OK PackageFile: SparseSignatures_2.16.0.tar.gz PackageFileSize: 1.511 MiB