Package: SparseSignatures Version: 2.16.0 Command: /home/biocbuild/R/R/bin/R CMD check --install=check:SparseSignatures.install-out.txt --library=/home/biocbuild/R/R/site-library --no-vignettes --timings SparseSignatures_2.16.0.tar.gz StartedAt: 2025-02-04 11:17:08 -0000 (Tue, 04 Feb 2025) EndedAt: 2025-02-04 11:27:53 -0000 (Tue, 04 Feb 2025) EllapsedTime: 644.8 seconds RetCode: 0 Status: OK CheckDir: SparseSignatures.Rcheck Warnings: 0