Package: SparseSignatures Version: 2.16.0 Command: /home/biocbuild/R/R/bin/R CMD INSTALL SparseSignatures StartedAt: 2025-02-03 20:49:24 -0000 (Mon, 03 Feb 2025) EndedAt: 2025-02-03 20:50:12 -0000 (Mon, 03 Feb 2025) EllapsedTime: 47.6 seconds RetCode: 0 Status: OK