Package: SparseSignatures
Version: 2.16.0
Command: /home/biocbuild/bbs-3.20-bioc/R/bin/R CMD INSTALL SparseSignatures
StartedAt: 2024-11-19 16:22:10 -0500 (Tue, 19 Nov 2024)
EndedAt: 2024-11-19 16:22:42 -0500 (Tue, 19 Nov 2024)
EllapsedTime: 32.8 seconds
RetCode: 0
Status: OK