Package: SpatialCPie Version: 1.22.0 Command: rm -rf SpatialCPie.buildbin-libdir && mkdir SpatialCPie.buildbin-libdir && /Users/biocbuild/BBS/utils/build-universal.sh SpatialCPie_1.22.0.tar.gz /Library/Frameworks/R.framework/Resources/bin/R SpatialCPie.buildbin-libdir StartedAt: 2025-01-31 13:45:49 -0500 (Fri, 31 Jan 2025) EndedAt: 2025-01-31 13:46:44 -0500 (Fri, 31 Jan 2025) EllapsedTime: 54.9 seconds RetCode: 0 Status: OK PackageFile: SpatialCPie_1.22.0.tgz PackageFileSize: 1.633 MiB