Package: SpatialCPie Version: 1.22.0 Command: rm -rf SpatialCPie.buildbin-libdir && mkdir SpatialCPie.buildbin-libdir && F:\biocbuild\bbs-3.20-bioc\R\bin\R.exe CMD INSTALL --build --library=SpatialCPie.buildbin-libdir SpatialCPie_1.22.0.tar.gz StartedAt: 2025-02-04 09:34:38 -0500 (Tue, 04 Feb 2025) EndedAt: 2025-02-04 09:35:12 -0500 (Tue, 04 Feb 2025) EllapsedTime: 33.8 seconds RetCode: 0 Status: OK PackageFile: SpatialCPie_1.22.0.zip PackageFileSize: 1.061 MiB