Package: SpatialDecon Version: 1.16.0 Command: /Library/Frameworks/R.framework/Resources/bin/R CMD check --install=check:SpatialDecon.install-out.txt --library=/Library/Frameworks/R.framework/Resources/library --no-vignettes --timings SpatialDecon_1.16.0.tar.gz StartedAt: 2025-02-05 11:04:26 -0500 (Wed, 05 Feb 2025) EndedAt: 2025-02-05 11:15:08 -0500 (Wed, 05 Feb 2025) EllapsedTime: 642.5 seconds RetCode: 0 Status: OK CheckDir: SpatialDecon.Rcheck Warnings: 0