Package: SpatialDecon Version: 1.16.0 Command: /Library/Frameworks/R.framework/Resources/bin/R CMD INSTALL SpatialDecon StartedAt: 2025-02-03 16:36:51 -0500 (Mon, 03 Feb 2025) EndedAt: 2025-02-03 16:37:19 -0500 (Mon, 03 Feb 2025) EllapsedTime: 27.6 seconds RetCode: 0 Status: OK