Package: SpatialDecon Version: 1.16.0 Command: /Library/Frameworks/R.framework/Resources/bin/R CMD INSTALL SpatialDecon StartedAt: 2025-02-03 16:03:33 -0500 (Mon, 03 Feb 2025) EndedAt: 2025-02-03 16:04:25 -0500 (Mon, 03 Feb 2025) EllapsedTime: 52.1 seconds RetCode: 0 Status: OK