Package: SpatialDecon Version: 1.16.0 Command: rm -rf SpatialDecon.buildbin-libdir && mkdir SpatialDecon.buildbin-libdir && F:\biocbuild\bbs-3.20-bioc\R\bin\R.exe CMD INSTALL --build --library=SpatialDecon.buildbin-libdir SpatialDecon_1.16.0.tar.gz StartedAt: 2025-02-04 09:34:43 -0500 (Tue, 04 Feb 2025) EndedAt: 2025-02-04 09:35:29 -0500 (Tue, 04 Feb 2025) EllapsedTime: 45.6 seconds RetCode: 0 Status: OK PackageFile: SpatialDecon_1.16.0.zip PackageFileSize: 3.356 MiB