Package: SpatialDecon Version: 1.16.0 Command: /home/biocbuild/R/R/bin/R CMD build --keep-empty-dirs --no-resave-data SpatialDecon StartedAt: 2025-02-04 03:11:30 -0000 (Tue, 04 Feb 2025) EndedAt: 2025-02-04 03:16:16 -0000 (Tue, 04 Feb 2025) EllapsedTime: 285.4 seconds RetCode: 0 Status: OK PackageFile: SpatialDecon_1.16.0.tar.gz PackageFileSize: 4.385 MiB