Package: SpatialDecon Version: 1.16.0 Command: /home/biocbuild/R/R/bin/R CMD INSTALL SpatialDecon StartedAt: 2025-02-03 20:55:46 -0000 (Mon, 03 Feb 2025) EndedAt: 2025-02-03 20:56:16 -0000 (Mon, 03 Feb 2025) EllapsedTime: 29.4 seconds RetCode: 0 Status: OK