Package: SpatialDecon
Version: 1.16.0
Command: /home/biocbuild/bbs-3.20-bioc/R/bin/R CMD build --keep-empty-dirs --no-resave-data SpatialDecon
StartedAt: 2024-11-19 21:57:14 -0500 (Tue, 19 Nov 2024)
EndedAt: 2024-11-19 21:59:19 -0500 (Tue, 19 Nov 2024)
EllapsedTime: 125.3 seconds
RetCode: 0
Status: OK
PackageFile: SpatialDecon_1.16.0.tar.gz
PackageFileSize: 5.11 <A href="http://en.wikipedia.org/wiki/MiB" target="_blank">MiB</A>